BEGIN:VCALENDAR
VERSION:2.0
PRODID:-//Ulrich Reiske - ECPv6.15.17.1//NONSGML v1.0//EN
CALSCALE:GREGORIAN
METHOD:PUBLISH
X-ORIGINAL-URL:https://ulrichreiske.de
X-WR-CALDESC:Veranstaltungen für Ulrich Reiske
REFRESH-INTERVAL;VALUE=DURATION:PT1H
X-Robots-Tag:noindex
X-PUBLISHED-TTL:PT1H
BEGIN:VTIMEZONE
TZID:Europe/Berlin
BEGIN:DAYLIGHT
TZOFFSETFROM:+0100
TZOFFSETTO:+0200
TZNAME:CEST
DTSTART:20190331T010000
END:DAYLIGHT
BEGIN:STANDARD
TZOFFSETFROM:+0200
TZOFFSETTO:+0100
TZNAME:CET
DTSTART:20191027T010000
END:STANDARD
BEGIN:DAYLIGHT
TZOFFSETFROM:+0100
TZOFFSETTO:+0200
TZNAME:CEST
DTSTART:20200329T010000
END:DAYLIGHT
BEGIN:STANDARD
TZOFFSETFROM:+0200
TZOFFSETTO:+0100
TZNAME:CET
DTSTART:20201025T010000
END:STANDARD
BEGIN:DAYLIGHT
TZOFFSETFROM:+0100
TZOFFSETTO:+0200
TZNAME:CEST
DTSTART:20210328T010000
END:DAYLIGHT
BEGIN:STANDARD
TZOFFSETFROM:+0200
TZOFFSETTO:+0100
TZNAME:CET
DTSTART:20211031T010000
END:STANDARD
END:VTIMEZONE
BEGIN:VEVENT
DTSTART;TZID=Europe/Berlin:20201104T080000
DTEND;TZID=Europe/Berlin:20201104T091500
DTSTAMP:20260422T091932
CREATED:20201003T174332Z
LAST-MODIFIED:20201003T174434Z
UID:3218-1604476800-1604481300@ulrichreiske.de
SUMMARY:Engpassdehnungsgruppe nach Liebscher & Bracht
DESCRIPTION:Freitags\n\nvon: 16.30 – 17.45 Uhr\nim:   Yoga- und Meditationszentrum (Agnes Schneider)\nOelmühlenstr. 13\n33604 Bielefeld \nKursleitung:  Ulrich Reiske\nKennenlern-Termin:  16\,00 €\nKursgebühr (10er Karte):  160\,00 € \nAnmeldung erwünscht.\nBitte eine Yoga-Matte mitbringen. \n 
URL:https://ulrichreiske.de/event/engpassdehnungsgruppe-nach-liebscher-bracht-30/
LOCATION:Yoga- und Meditationzentrum Bielefeld (Agnes Schneider)\, Oelmühlenstraße 13\, Bielefeld\, NRW\, 33604\, Deutschland
END:VEVENT
BEGIN:VEVENT
DTSTART;TZID=Europe/Berlin:20201106T163000
DTEND;TZID=Europe/Berlin:20201106T174500
DTSTAMP:20260422T091932
CREATED:20201003T180942Z
LAST-MODIFIED:20201003T180942Z
UID:3237-1604680200-1604684700@ulrichreiske.de
SUMMARY:fayo-Faszienyoga
DESCRIPTION:Freitags\n\nvon: 16.30 – 17.45 Uhr\nim:   Yoga- und Meditationszentrum (Agnes Schneider)\nOelmühlenstr. 13\n33604 Bielefeld \nKursleitung:  Ulrich Reiske\nKennenlern-Termin:  16\,00 €\nKursgebühr (10er Karte):  160\,00 € \nAnmeldung erwünscht.\nBitte eine Yoga-Matte mitbringen. \n 
URL:https://ulrichreiske.de/event/fayo-faszienyoga-9/
LOCATION:Yoga- und Meditationzentrum Bielefeld (Agnes Schneider)\, Oelmühlenstraße 13\, Bielefeld\, NRW\, 33604\, Deutschland
END:VEVENT
BEGIN:VEVENT
DTSTART;TZID=Europe/Berlin:20201111T080000
DTEND;TZID=Europe/Berlin:20201111T091500
DTSTAMP:20260422T091932
CREATED:20201003T174625Z
LAST-MODIFIED:20201003T174629Z
UID:3220-1605081600-1605086100@ulrichreiske.de
SUMMARY:Engpassdehnungsgruppe nach Liebscher & Bracht
DESCRIPTION:Freitags\n\nvon: 16.30 – 17.45 Uhr\nim:   Yoga- und Meditationszentrum (Agnes Schneider)\nOelmühlenstr. 13\n33604 Bielefeld \nKursleitung:  Ulrich Reiske\nKennenlern-Termin:  16\,00 €\nKursgebühr (10er Karte):  160\,00 € \nAnmeldung erwünscht.\nBitte eine Yoga-Matte mitbringen. \n 
URL:https://ulrichreiske.de/event/engpassdehnungsgruppe-nach-liebscher-bracht-31/
LOCATION:NRW
END:VEVENT
BEGIN:VEVENT
DTSTART;TZID=Europe/Berlin:20201113T163000
DTEND;TZID=Europe/Berlin:20201113T174500
DTSTAMP:20260422T091932
CREATED:20201003T181105Z
LAST-MODIFIED:20201003T181110Z
UID:3239-1605285000-1605289500@ulrichreiske.de
SUMMARY:fayo-Faszienyoga
DESCRIPTION:Freitags\n\nvon: 16.30 – 17.45 Uhr\nim:   Yoga- und Meditationszentrum (Agnes Schneider)\nOelmühlenstr. 13\n33604 Bielefeld \nKursleitung:  Ulrich Reiske\nKennenlern-Termin:  16\,00 €\nKursgebühr (10er Karte):  160\,00 € \nAnmeldung erwünscht.\nBitte eine Yoga-Matte mitbringen. \n 
URL:https://ulrichreiske.de/event/fayo-faszienyoga-10/
LOCATION:Yoga- und Meditationzentrum Bielefeld (Agnes Schneider)\, Oelmühlenstraße 13\, Bielefeld\, NRW\, 33604\, Deutschland
END:VEVENT
BEGIN:VEVENT
DTSTART;TZID=Europe/Berlin:20201118T080000
DTEND;TZID=Europe/Berlin:20201118T091500
DTSTAMP:20260422T091932
CREATED:20201003T175008Z
LAST-MODIFIED:20201003T175029Z
UID:3222-1605686400-1605690900@ulrichreiske.de
SUMMARY:Engpassdehnungsgruppe nach Liebscher & Bracht
DESCRIPTION:Freitags\n\nvon: 16.30 – 17.45 Uhr\nim:   Yoga- und Meditationszentrum (Agnes Schneider)\nOelmühlenstr. 13\n33604 Bielefeld \nKursleitung:  Ulrich Reiske\nKennenlern-Termin:  16\,00 €\nKursgebühr (10er Karte):  160\,00 € \nAnmeldung erwünscht.\nBitte eine Yoga-Matte mitbringen. \n 
URL:https://ulrichreiske.de/event/engpassdehnungsgruppe-nach-liebscher-bracht-32/
LOCATION:Yoga- und Meditationzentrum Bielefeld (Agnes Schneider)\, Oelmühlenstraße 13\, Bielefeld\, NRW\, 33604\, Deutschland
END:VEVENT
BEGIN:VEVENT
DTSTART;TZID=Europe/Berlin:20201120T163000
DTEND;TZID=Europe/Berlin:20201120T174500
DTSTAMP:20260422T091932
CREATED:20201003T181305Z
LAST-MODIFIED:20201003T181308Z
UID:3241-1605889800-1605894300@ulrichreiske.de
SUMMARY:fayo-Faszienyoga
DESCRIPTION:Freitags\n\nvon: 16.30 – 17.45 Uhr\nim:   Yoga- und Meditationszentrum (Agnes Schneider)\nOelmühlenstr. 13\n33604 Bielefeld \nKursleitung:  Ulrich Reiske\nKennenlern-Termin:  16\,00 €\nKursgebühr (10er Karte):  160\,00 € \nAnmeldung erwünscht.\nBitte eine Yoga-Matte mitbringen. \n 
URL:https://ulrichreiske.de/event/fayo-faszienyoga-11/
LOCATION:Yoga- und Meditationzentrum Bielefeld (Agnes Schneider)\, Oelmühlenstraße 13\, Bielefeld\, NRW\, 33604\, Deutschland
END:VEVENT
BEGIN:VEVENT
DTSTART;TZID=Europe/Berlin:20201125T080000
DTEND;TZID=Europe/Berlin:20201125T091500
DTSTAMP:20260422T091932
CREATED:20201003T175207Z
LAST-MODIFIED:20201003T175211Z
UID:3224-1606291200-1606295700@ulrichreiske.de
SUMMARY:Engpassdehnungsgruppe nach Liebscher & Bracht
DESCRIPTION:Freitags\n\nvon: 16.30 – 17.45 Uhr\nim:   Yoga- und Meditationszentrum (Agnes Schneider)\nOelmühlenstr. 13\n33604 Bielefeld \nKursleitung:  Ulrich Reiske\nKennenlern-Termin:  16\,00 €\nKursgebühr (10er Karte):  160\,00 € \nAnmeldung erwünscht.\nBitte eine Yoga-Matte mitbringen. \n 
URL:https://ulrichreiske.de/event/engpassdehnungsgruppe-nach-liebscher-bracht-33/
LOCATION:Yoga- und Meditationzentrum Bielefeld (Agnes Schneider)\, Oelmühlenstraße 13\, Bielefeld\, NRW\, 33604\, Deutschland
END:VEVENT
BEGIN:VEVENT
DTSTART;TZID=Europe/Berlin:20201127T163000
DTEND;TZID=Europe/Berlin:20201127T174500
DTSTAMP:20260422T091932
CREATED:20201003T181442Z
LAST-MODIFIED:20201003T181446Z
UID:3243-1606494600-1606499100@ulrichreiske.de
SUMMARY:fayo-Faszienyoga
DESCRIPTION:Freitags\n\nvon: 16.30 – 17.45 Uhr\nim:   Yoga- und Meditationszentrum (Agnes Schneider)\nOelmühlenstr. 13\n33604 Bielefeld \nKursleitung:  Ulrich Reiske\nKennenlern-Termin:  16\,00 €\nKursgebühr (10er Karte):  160\,00 € \nAnmeldung erwünscht.\nBitte eine Yoga-Matte mitbringen. \n 
URL:https://ulrichreiske.de/event/fayo-faszienyoga-12/
LOCATION:Yoga- und Meditationzentrum Bielefeld (Agnes Schneider)\, Oelmühlenstraße 13\, Bielefeld\, NRW\, 33604\, Deutschland
END:VEVENT
END:VCALENDAR