BEGIN:VCALENDAR
VERSION:2.0
PRODID:-//Ulrich Reiske - ECPv6.15.17.1//NONSGML v1.0//EN
CALSCALE:GREGORIAN
METHOD:PUBLISH
X-WR-CALNAME:Ulrich Reiske
X-ORIGINAL-URL:https://ulrichreiske.de
X-WR-CALDESC:Veranstaltungen für Ulrich Reiske
REFRESH-INTERVAL;VALUE=DURATION:PT1H
X-Robots-Tag:noindex
X-PUBLISHED-TTL:PT1H
BEGIN:VTIMEZONE
TZID:Europe/Berlin
BEGIN:DAYLIGHT
TZOFFSETFROM:+0100
TZOFFSETTO:+0200
TZNAME:CEST
DTSTART:20220327T010000
END:DAYLIGHT
BEGIN:STANDARD
TZOFFSETFROM:+0200
TZOFFSETTO:+0100
TZNAME:CET
DTSTART:20221030T010000
END:STANDARD
BEGIN:DAYLIGHT
TZOFFSETFROM:+0100
TZOFFSETTO:+0200
TZNAME:CEST
DTSTART:20230326T010000
END:DAYLIGHT
BEGIN:STANDARD
TZOFFSETFROM:+0200
TZOFFSETTO:+0100
TZNAME:CET
DTSTART:20231029T010000
END:STANDARD
BEGIN:DAYLIGHT
TZOFFSETFROM:+0100
TZOFFSETTO:+0200
TZNAME:CEST
DTSTART:20240331T010000
END:DAYLIGHT
BEGIN:STANDARD
TZOFFSETFROM:+0200
TZOFFSETTO:+0100
TZNAME:CET
DTSTART:20241027T010000
END:STANDARD
END:VTIMEZONE
BEGIN:VEVENT
DTSTART;TZID=Europe/Berlin:20230906T081500
DTEND;TZID=Europe/Berlin:20230906T093000
DTSTAMP:20260422T015657
CREATED:20230530T205014Z
LAST-MODIFIED:20230530T205036Z
UID:4276-1693988100-1693992600@ulrichreiske.de
SUMMARY:Engpassdehnungsgruppe nach Liebscher & Bracht
DESCRIPTION:Freitags\n\nvon: 16.30 – 17.45 Uhr\nim:   Yoga- und Meditationszentrum (Agnes Schneider)\nOelmühlenstr. 13\n33604 Bielefeld \nKursleitung:  Ulrich Reiske\nKennenlern-Termin:  16\,00 €\nKursgebühr (10er Karte):  160\,00 € \nAnmeldung erwünscht.\nBitte eine Yoga-Matte mitbringen. \n 
URL:https://ulrichreiske.de/event/engpassdehnungsgruppe-nach-liebscher-bracht-146/
LOCATION:Yoga- und Meditationzentrum Bielefeld (Agnes Schneider)\, Oelmühlenstraße 13\, Bielefeld\, NRW\, 33604\, Deutschland
END:VEVENT
BEGIN:VEVENT
DTSTART;TZID=Europe/Berlin:20230908T163000
DTEND;TZID=Europe/Berlin:20230908T174500
DTSTAMP:20260422T015657
CREATED:20230530T202957Z
LAST-MODIFIED:20230530T203003Z
UID:4244-1694190600-1694195100@ulrichreiske.de
SUMMARY:L&B Bewegungskurs/ fayo-Faszienyoga
DESCRIPTION:Freitags\n\nvon: 16.30 – 17.45 Uhr\nim:   Yoga- und Meditationszentrum (Agnes Schneider)\nOelmühlenstr. 13\n33604 Bielefeld \nKursleitung:  Ulrich Reiske\nKennenlern-Termin:  16\,00 €\nKursgebühr (10er Karte):  160\,00 € \nAnmeldung erwünscht.\nBitte eine Yoga-Matte mitbringen. \n 
URL:https://ulrichreiske.de/event/lb-bewegungskurs-fayo-faszienyoga-10/
LOCATION:Yoga- und Meditationzentrum Bielefeld (Agnes Schneider)\, Oelmühlenstraße 13\, Bielefeld\, NRW\, 33604\, Deutschland
END:VEVENT
BEGIN:VEVENT
DTSTART;TZID=Europe/Berlin:20230913T081500
DTEND;TZID=Europe/Berlin:20230913T093000
DTSTAMP:20260422T015657
CREATED:20230530T205157Z
LAST-MODIFIED:20230530T205203Z
UID:4280-1694592900-1694597400@ulrichreiske.de
SUMMARY:Engpassdehnungsgruppe nach Liebscher & Bracht
DESCRIPTION:Freitags\n\nvon: 16.30 – 17.45 Uhr\nim:   Yoga- und Meditationszentrum (Agnes Schneider)\nOelmühlenstr. 13\n33604 Bielefeld \nKursleitung:  Ulrich Reiske\nKennenlern-Termin:  16\,00 €\nKursgebühr (10er Karte):  160\,00 € \nAnmeldung erwünscht.\nBitte eine Yoga-Matte mitbringen. \n 
URL:https://ulrichreiske.de/event/engpassdehnungsgruppe-nach-liebscher-bracht-147/
LOCATION:Yoga- und Meditationzentrum Bielefeld (Agnes Schneider)\, Oelmühlenstraße 13\, Bielefeld\, NRW\, 33604\, Deutschland
END:VEVENT
BEGIN:VEVENT
DTSTART;TZID=Europe/Berlin:20230915T080000
DTEND;TZID=Europe/Berlin:20230915T170000
DTSTAMP:20260422T015657
CREATED:20230530T203058Z
LAST-MODIFIED:20230530T203108Z
UID:4247-1694764800-1694797200@ulrichreiske.de
SUMMARY:L&B Bewegungskurs/ fayo-Faszienyoga
DESCRIPTION:Freitags\n\nvon: 16.30 – 17.45 Uhr\nim:   Yoga- und Meditationszentrum (Agnes Schneider)\nOelmühlenstr. 13\n33604 Bielefeld \nKursleitung:  Ulrich Reiske\nKennenlern-Termin:  16\,00 €\nKursgebühr (10er Karte):  160\,00 € \nAnmeldung erwünscht.\nBitte eine Yoga-Matte mitbringen. \n 
URL:https://ulrichreiske.de/event/lb-bewegungskurs-fayo-faszienyoga-11/
LOCATION:Yoga- und Meditationzentrum Bielefeld (Agnes Schneider)\, Oelmühlenstraße 13\, Bielefeld\, NRW\, 33604\, Deutschland
END:VEVENT
BEGIN:VEVENT
DTSTART;TZID=Europe/Berlin:20230920T081500
DTEND;TZID=Europe/Berlin:20230920T093000
DTSTAMP:20260422T015657
CREATED:20230530T205240Z
LAST-MODIFIED:20230530T205421Z
UID:4283-1695197700-1695202200@ulrichreiske.de
SUMMARY:Engpassdehnungsgruppe nach Liebscher & Bracht
DESCRIPTION:Freitags\n\nvon: 16.30 – 17.45 Uhr\nim:   Yoga- und Meditationszentrum (Agnes Schneider)\nOelmühlenstr. 13\n33604 Bielefeld \nKursleitung:  Ulrich Reiske\nKennenlern-Termin:  16\,00 €\nKursgebühr (10er Karte):  160\,00 € \nAnmeldung erwünscht.\nBitte eine Yoga-Matte mitbringen. \n 
URL:https://ulrichreiske.de/event/engpassdehnungsgruppe-nach-liebscher-bracht-148/
LOCATION:Yoga- und Meditationzentrum Bielefeld (Agnes Schneider)\, Oelmühlenstraße 13\, Bielefeld\, NRW\, 33604\, Deutschland
END:VEVENT
BEGIN:VEVENT
DTSTART;TZID=Europe/Berlin:20230922T163000
DTEND;TZID=Europe/Berlin:20230922T174500
DTSTAMP:20260422T015657
CREATED:20230530T201957Z
LAST-MODIFIED:20230530T203245Z
UID:4227-1695400200-1695404700@ulrichreiske.de
SUMMARY:L&B Bewegungskurs/ fayo-Faszienyoga
DESCRIPTION:Freitags\n\nvon: 16.30 – 17.45 Uhr\nim:   Yoga- und Meditationszentrum (Agnes Schneider)\nOelmühlenstr. 13\n33604 Bielefeld \nKursleitung:  Ulrich Reiske\nKennenlern-Termin:  16\,00 €\nKursgebühr (10er Karte):  160\,00 € \nAnmeldung erwünscht.\nBitte eine Yoga-Matte mitbringen. \n 
URL:https://ulrichreiske.de/event/lb-bewegungskurs-fayo-faszienyoga-5/
LOCATION:Yoga- und Meditationzentrum Bielefeld (Agnes Schneider)\, Oelmühlenstraße 13\, Bielefeld\, NRW\, 33604\, Deutschland
END:VEVENT
BEGIN:VEVENT
DTSTART;TZID=Europe/Berlin:20230927T081500
DTEND;TZID=Europe/Berlin:20230927T093000
DTSTAMP:20260422T015657
CREATED:20230530T205541Z
LAST-MODIFIED:20230530T205603Z
UID:4288-1695802500-1695807000@ulrichreiske.de
SUMMARY:Engpassdehnungsgruppe nach Liebscher & Bracht
DESCRIPTION:Freitags\n\nvon: 16.30 – 17.45 Uhr\nim:   Yoga- und Meditationszentrum (Agnes Schneider)\nOelmühlenstr. 13\n33604 Bielefeld \nKursleitung:  Ulrich Reiske\nKennenlern-Termin:  16\,00 €\nKursgebühr (10er Karte):  160\,00 € \nAnmeldung erwünscht.\nBitte eine Yoga-Matte mitbringen. \n 
URL:https://ulrichreiske.de/event/engpassdehnungsgruppe-nach-liebscher-bracht-149/
LOCATION:Yoga- und Meditationzentrum Bielefeld (Agnes Schneider)\, Oelmühlenstraße 13\, Bielefeld\, NRW\, 33604\, Deutschland
END:VEVENT
BEGIN:VEVENT
DTSTART;TZID=Europe/Berlin:20230929T163000
DTEND;TZID=Europe/Berlin:20230929T174500
DTSTAMP:20260422T015657
CREATED:20230530T203356Z
LAST-MODIFIED:20230530T203401Z
UID:4251-1696005000-1696009500@ulrichreiske.de
SUMMARY:L&B Bewegungskurs/ fayo-Faszienyoga
DESCRIPTION:Freitags\n\nvon: 16.30 – 17.45 Uhr\nim:   Yoga- und Meditationszentrum (Agnes Schneider)\nOelmühlenstr. 13\n33604 Bielefeld \nKursleitung:  Ulrich Reiske\nKennenlern-Termin:  16\,00 €\nKursgebühr (10er Karte):  160\,00 € \nAnmeldung erwünscht.\nBitte eine Yoga-Matte mitbringen. \n 
URL:https://ulrichreiske.de/event/lb-bewegungskurs-fayo-faszienyoga-12/
LOCATION:Yoga- und Meditationzentrum Bielefeld (Agnes Schneider)\, Oelmühlenstraße 13\, Bielefeld\, NRW\, 33604\, Deutschland
END:VEVENT
END:VCALENDAR