BEGIN:VCALENDAR
VERSION:2.0
PRODID:-//Ulrich Reiske - ECPv6.15.17.1//NONSGML v1.0//EN
CALSCALE:GREGORIAN
METHOD:PUBLISH
X-WR-CALNAME:Ulrich Reiske
X-ORIGINAL-URL:https://ulrichreiske.de
X-WR-CALDESC:Veranstaltungen für Ulrich Reiske
REFRESH-INTERVAL;VALUE=DURATION:PT1H
X-Robots-Tag:noindex
X-PUBLISHED-TTL:PT1H
BEGIN:VTIMEZONE
TZID:Europe/Berlin
BEGIN:DAYLIGHT
TZOFFSETFROM:+0100
TZOFFSETTO:+0200
TZNAME:CEST
DTSTART:20240331T010000
END:DAYLIGHT
BEGIN:STANDARD
TZOFFSETFROM:+0200
TZOFFSETTO:+0100
TZNAME:CET
DTSTART:20241027T010000
END:STANDARD
BEGIN:DAYLIGHT
TZOFFSETFROM:+0100
TZOFFSETTO:+0200
TZNAME:CEST
DTSTART:20250330T010000
END:DAYLIGHT
BEGIN:STANDARD
TZOFFSETFROM:+0200
TZOFFSETTO:+0100
TZNAME:CET
DTSTART:20251026T010000
END:STANDARD
BEGIN:DAYLIGHT
TZOFFSETFROM:+0100
TZOFFSETTO:+0200
TZNAME:CEST
DTSTART:20260329T010000
END:DAYLIGHT
BEGIN:STANDARD
TZOFFSETFROM:+0200
TZOFFSETTO:+0100
TZNAME:CET
DTSTART:20261025T010000
END:STANDARD
END:VTIMEZONE
BEGIN:VEVENT
DTSTART;TZID=Europe/Berlin:20250108T081500
DTEND;TZID=Europe/Berlin:20250108T093000
DTSTAMP:20260423T170901
CREATED:20241120T234433Z
LAST-MODIFIED:20241125T230922Z
UID:4492-1736324100-1736328600@ulrichreiske.de
SUMMARY:Engpassdehnungsgruppe nach Liebscher & Bracht
DESCRIPTION:Freitags\n\nvon: 16.30 – 17.45 Uhr\nim:   Yoga- und Meditationszentrum (Agnes Schneider)\nOelmühlenstr. 13\n33604 Bielefeld \nKursleitung:  Ulrich Reiske\nKennenlern-Termin:  16\,00 €\nKursgebühr (10er Karte):  160\,00 € \nAnmeldung erwünscht.\nBitte eine Yoga-Matte mitbringen. \n 
URL:https://ulrichreiske.de/event/engpassdehnungsgruppe-nach-liebscher-bracht-165/
LOCATION:Yoga- und Meditationzentrum Bielefeld (Agnes Schneider)\, Oelmühlenstraße 13\, Bielefeld\, NRW\, 33604\, Deutschland
END:VEVENT
BEGIN:VEVENT
DTSTART;TZID=Europe/Berlin:20250110T163000
DTEND;TZID=Europe/Berlin:20250110T174500
DTSTAMP:20260423T170901
CREATED:20241120T235929Z
LAST-MODIFIED:20241120T235933Z
UID:4502-1736526600-1736531100@ulrichreiske.de
SUMMARY:L&B Bewegungskurs & fayo-Faszienyoga
DESCRIPTION:Freitags\n\nvon: 16.30 – 17.45 Uhr\nim:   Yoga- und Meditationszentrum (Agnes Schneider)\nOelmühlenstr. 13\n33604 Bielefeld \nKursleitung:  Ulrich Reiske\nKennenlern-Termin:  16\,00 €\nKursgebühr (10er Karte):  160\,00 € \nAnmeldung erwünscht.\nBitte eine Yoga-Matte mitbringen. \n 
URL:https://ulrichreiske.de/event/lb-bewegungskurs-fayo-faszienyoga-25/
LOCATION:Yoga- und Meditationzentrum Bielefeld (Agnes Schneider)\, Oelmühlenstraße 13\, Bielefeld\, NRW\, 33604\, Deutschland
END:VEVENT
BEGIN:VEVENT
DTSTART;TZID=Europe/Berlin:20250115T081500
DTEND;TZID=Europe/Berlin:20250115T093000
DTSTAMP:20260423T170901
CREATED:20241120T234752Z
LAST-MODIFIED:20241125T231025Z
UID:4494-1736928900-1736933400@ulrichreiske.de
SUMMARY:Engpassdehnungsgruppe nach Liebscher & Bracht
DESCRIPTION:Freitags\n\nvon: 16.30 – 17.45 Uhr\nim:   Yoga- und Meditationszentrum (Agnes Schneider)\nOelmühlenstr. 13\n33604 Bielefeld \nKursleitung:  Ulrich Reiske\nKennenlern-Termin:  16\,00 €\nKursgebühr (10er Karte):  160\,00 € \nAnmeldung erwünscht.\nBitte eine Yoga-Matte mitbringen. \n 
URL:https://ulrichreiske.de/event/engpassdehnungsgruppe-nach-liebscher-bracht-166/
LOCATION:Yoga- und Meditationzentrum Bielefeld (Agnes Schneider)\, Oelmühlenstraße 13\, Bielefeld\, NRW\, 33604\, Deutschland
END:VEVENT
BEGIN:VEVENT
DTSTART;TZID=Europe/Berlin:20250117T163000
DTEND;TZID=Europe/Berlin:20250117T174500
DTSTAMP:20260423T170901
CREATED:20241121T000107Z
LAST-MODIFIED:20241121T000339Z
UID:4504-1737131400-1737135900@ulrichreiske.de
SUMMARY:L&B Bewegungskurs & fayo-Faszienyoga
DESCRIPTION:Freitags\n\nvon: 16.30 – 17.45 Uhr\nim:   Yoga- und Meditationszentrum (Agnes Schneider)\nOelmühlenstr. 13\n33604 Bielefeld \nKursleitung:  Ulrich Reiske\nKennenlern-Termin:  16\,00 €\nKursgebühr (10er Karte):  160\,00 € \nAnmeldung erwünscht.\nBitte eine Yoga-Matte mitbringen. \n 
URL:https://ulrichreiske.de/event/lb-bewegungskurs-fayo-faszienyoga-26/
LOCATION:Yoga- und Meditationzentrum Bielefeld (Agnes Schneider)\, Oelmühlenstraße 13\, Bielefeld\, NRW\, 33604\, Deutschland
END:VEVENT
BEGIN:VEVENT
DTSTART;TZID=Europe/Berlin:20250122T081500
DTEND;TZID=Europe/Berlin:20250122T093000
DTSTAMP:20260423T170901
CREATED:20241120T235215Z
LAST-MODIFIED:20241125T231124Z
UID:4496-1737533700-1737538200@ulrichreiske.de
SUMMARY:Engpassdehnungsgruppe nach Liebscher & Bracht
DESCRIPTION:Freitags\n\nvon: 16.30 – 17.45 Uhr\nim:   Yoga- und Meditationszentrum (Agnes Schneider)\nOelmühlenstr. 13\n33604 Bielefeld \nKursleitung:  Ulrich Reiske\nKennenlern-Termin:  16\,00 €\nKursgebühr (10er Karte):  160\,00 € \nAnmeldung erwünscht.\nBitte eine Yoga-Matte mitbringen. \n 
URL:https://ulrichreiske.de/event/engpassdehnungsgruppe-nach-liebscher-bracht-167/
LOCATION:Yoga- und Meditationzentrum Bielefeld (Agnes Schneider)\, Oelmühlenstraße 13\, Bielefeld\, NRW\, 33604\, Deutschland
END:VEVENT
BEGIN:VEVENT
DTSTART;TZID=Europe/Berlin:20250124T163000
DTEND;TZID=Europe/Berlin:20250124T174500
DTSTAMP:20260423T170901
CREATED:20241121T000601Z
LAST-MODIFIED:20241121T000607Z
UID:4507-1737736200-1737740700@ulrichreiske.de
SUMMARY:L&B Bewegungskurs & fayo-Faszienyoga
DESCRIPTION:Freitags\n\nvon: 16.30 – 17.45 Uhr\nim:   Yoga- und Meditationszentrum (Agnes Schneider)\nOelmühlenstr. 13\n33604 Bielefeld \nKursleitung:  Ulrich Reiske\nKennenlern-Termin:  16\,00 €\nKursgebühr (10er Karte):  160\,00 € \nAnmeldung erwünscht.\nBitte eine Yoga-Matte mitbringen. \n 
URL:https://ulrichreiske.de/event/lb-bewegungskurs-fayo-faszienyoga-27/
LOCATION:Yoga- und Meditationzentrum Bielefeld (Agnes Schneider)\, Oelmühlenstraße 13\, Bielefeld\, NRW\, 33604\, Deutschland
END:VEVENT
BEGIN:VEVENT
DTSTART;TZID=Europe/Berlin:20250129T081500
DTEND;TZID=Europe/Berlin:20250129T093000
DTSTAMP:20260423T170901
CREATED:20241120T235419Z
LAST-MODIFIED:20241125T231211Z
UID:4498-1738138500-1738143000@ulrichreiske.de
SUMMARY:Engpassdehnungsgruppe nach Liebscher & Bracht
DESCRIPTION:Freitags\n\nvon: 16.30 – 17.45 Uhr\nim:   Yoga- und Meditationszentrum (Agnes Schneider)\nOelmühlenstr. 13\n33604 Bielefeld \nKursleitung:  Ulrich Reiske\nKennenlern-Termin:  16\,00 €\nKursgebühr (10er Karte):  160\,00 € \nAnmeldung erwünscht.\nBitte eine Yoga-Matte mitbringen. \n 
URL:https://ulrichreiske.de/event/engpassdehnungsgruppe-nach-liebscher-bracht-168/
LOCATION:Yoga- und Meditationzentrum Bielefeld (Agnes Schneider)\, Oelmühlenstraße 13\, Bielefeld\, NRW\, 33604\, Deutschland
END:VEVENT
BEGIN:VEVENT
DTSTART;TZID=Europe/Berlin:20250131T163000
DTEND;TZID=Europe/Berlin:20250131T174500
DTSTAMP:20260423T170901
CREATED:20241121T000803Z
LAST-MODIFIED:20241121T000807Z
UID:4509-1738341000-1738345500@ulrichreiske.de
SUMMARY:L&B Bewegungskurs & fayo-Faszienyoga
DESCRIPTION:Freitags\n\nvon: 16.30 – 17.45 Uhr\nim:   Yoga- und Meditationszentrum (Agnes Schneider)\nOelmühlenstr. 13\n33604 Bielefeld \nKursleitung:  Ulrich Reiske\nKennenlern-Termin:  16\,00 €\nKursgebühr (10er Karte):  160\,00 € \nAnmeldung erwünscht.\nBitte eine Yoga-Matte mitbringen. \n 
URL:https://ulrichreiske.de/event/lb-bewegungskurs-fayo-faszienyoga-28/
LOCATION:Yoga- und Meditationzentrum Bielefeld (Agnes Schneider)\, Oelmühlenstraße 13\, Bielefeld\, NRW\, 33604\, Deutschland
END:VEVENT
END:VCALENDAR