BEGIN:VCALENDAR
VERSION:2.0
PRODID:-//Ulrich Reiske - ECPv6.15.17.1//NONSGML v1.0//EN
CALSCALE:GREGORIAN
METHOD:PUBLISH
X-ORIGINAL-URL:https://ulrichreiske.de
X-WR-CALDESC:Veranstaltungen für Ulrich Reiske
REFRESH-INTERVAL;VALUE=DURATION:PT1H
X-Robots-Tag:noindex
X-PUBLISHED-TTL:PT1H
BEGIN:VTIMEZONE
TZID:Europe/Berlin
BEGIN:DAYLIGHT
TZOFFSETFROM:+0100
TZOFFSETTO:+0200
TZNAME:CEST
DTSTART:20240331T010000
END:DAYLIGHT
BEGIN:STANDARD
TZOFFSETFROM:+0200
TZOFFSETTO:+0100
TZNAME:CET
DTSTART:20241027T010000
END:STANDARD
BEGIN:DAYLIGHT
TZOFFSETFROM:+0100
TZOFFSETTO:+0200
TZNAME:CEST
DTSTART:20250330T010000
END:DAYLIGHT
BEGIN:STANDARD
TZOFFSETFROM:+0200
TZOFFSETTO:+0100
TZNAME:CET
DTSTART:20251026T010000
END:STANDARD
BEGIN:DAYLIGHT
TZOFFSETFROM:+0100
TZOFFSETTO:+0200
TZNAME:CEST
DTSTART:20260329T010000
END:DAYLIGHT
BEGIN:STANDARD
TZOFFSETFROM:+0200
TZOFFSETTO:+0100
TZNAME:CET
DTSTART:20261025T010000
END:STANDARD
END:VTIMEZONE
BEGIN:VEVENT
DTSTART;TZID=Europe/Berlin:20250604T081500
DTEND;TZID=Europe/Berlin:20250604T093000
DTSTAMP:20260419T193524
CREATED:20241125T225624Z
LAST-MODIFIED:20241125T225725Z
UID:4551-1749024900-1749029400@ulrichreiske.de
SUMMARY:Engpassdehnungsgruppe nach Liebscher & Bracht
DESCRIPTION:Freitags\n\nvon: 16.30 – 17.45 Uhr\nim:   Yoga- und Meditationszentrum (Agnes Schneider)\nOelmühlenstr. 13\n33604 Bielefeld \nKursleitung:  Ulrich Reiske\nKennenlern-Termin:  16\,00 €\nKursgebühr (10er Karte):  160\,00 € \nAnmeldung erwünscht.\nBitte eine Yoga-Matte mitbringen. \n 
URL:https://ulrichreiske.de/event/engpassdehnungsgruppe-nach-liebscher-bracht-184/
LOCATION:Yoga- und Meditationzentrum Bielefeld (Agnes Schneider)\, Oelmühlenstraße 13\, Bielefeld\, NRW\, 33604\, Deutschland
END:VEVENT
BEGIN:VEVENT
DTSTART;TZID=Europe/Berlin:20250606T163000
DTEND;TZID=Europe/Berlin:20250606T174500
DTSTAMP:20260419T193524
CREATED:20241126T102736Z
LAST-MODIFIED:20241126T102741Z
UID:4608-1749227400-1749231900@ulrichreiske.de
SUMMARY:L&B Bewegungskurs & fayo-Faszienyoga
DESCRIPTION:Freitags\n\nvon: 16.30 – 17.45 Uhr\nim:   Yoga- und Meditationszentrum (Agnes Schneider)\nOelmühlenstr. 13\n33604 Bielefeld \nKursleitung:  Ulrich Reiske\nKennenlern-Termin:  16\,00 €\nKursgebühr (10er Karte):  160\,00 € \nAnmeldung erwünscht.\nBitte eine Yoga-Matte mitbringen. \n 
URL:https://ulrichreiske.de/event/lb-bewegungskurs-fayo-faszienyoga-43/
LOCATION:Yoga- und Meditationzentrum Bielefeld (Agnes Schneider)\, Oelmühlenstraße 13\, Bielefeld\, NRW\, 33604\, Deutschland
END:VEVENT
BEGIN:VEVENT
DTSTART;TZID=Europe/Berlin:20250625T081500
DTEND;TZID=Europe/Berlin:20250625T093000
DTSTAMP:20260419T193524
CREATED:20241125T225849Z
LAST-MODIFIED:20241125T225854Z
UID:4553-1750839300-1750843800@ulrichreiske.de
SUMMARY:Engpassdehnungsgruppe nach Liebscher & Bracht
DESCRIPTION:Freitags\n\nvon: 16.30 – 17.45 Uhr\nim:   Yoga- und Meditationszentrum (Agnes Schneider)\nOelmühlenstr. 13\n33604 Bielefeld \nKursleitung:  Ulrich Reiske\nKennenlern-Termin:  16\,00 €\nKursgebühr (10er Karte):  160\,00 € \nAnmeldung erwünscht.\nBitte eine Yoga-Matte mitbringen. \n 
URL:https://ulrichreiske.de/event/engpassdehnungsgruppe-nach-liebscher-bracht-185/
LOCATION:Yoga- und Meditationzentrum Bielefeld (Agnes Schneider)\, Oelmühlenstraße 13\, Bielefeld\, NRW\, 33604\, Deutschland
END:VEVENT
BEGIN:VEVENT
DTSTART;TZID=Europe/Berlin:20250627T163000
DTEND;TZID=Europe/Berlin:20250627T174500
DTSTAMP:20260419T193524
CREATED:20241126T102945Z
LAST-MODIFIED:20241126T102950Z
UID:4610-1751041800-1751046300@ulrichreiske.de
SUMMARY:L&B Bewegungskurs & fayo-Faszienyoga
DESCRIPTION:Freitags\n\nvon: 16.30 – 17.45 Uhr\nim:   Yoga- und Meditationszentrum (Agnes Schneider)\nOelmühlenstr. 13\n33604 Bielefeld \nKursleitung:  Ulrich Reiske\nKennenlern-Termin:  16\,00 €\nKursgebühr (10er Karte):  160\,00 € \nAnmeldung erwünscht.\nBitte eine Yoga-Matte mitbringen. \n 
URL:https://ulrichreiske.de/event/lb-bewegungskurs-fayo-faszienyoga-44/
LOCATION:Yoga- und Meditationzentrum Bielefeld (Agnes Schneider)\, Oelmühlenstraße 13\, Bielefeld\, NRW\, 33604\, Deutschland
END:VEVENT
END:VCALENDAR