BEGIN:VCALENDAR
VERSION:2.0
PRODID:-//Ulrich Reiske - ECPv6.15.17.1//NONSGML v1.0//EN
CALSCALE:GREGORIAN
METHOD:PUBLISH
X-ORIGINAL-URL:https://ulrichreiske.de
X-WR-CALDESC:Veranstaltungen für Ulrich Reiske
REFRESH-INTERVAL;VALUE=DURATION:PT1H
X-Robots-Tag:noindex
X-PUBLISHED-TTL:PT1H
BEGIN:VTIMEZONE
TZID:Europe/Berlin
BEGIN:DAYLIGHT
TZOFFSETFROM:+0100
TZOFFSETTO:+0200
TZNAME:CEST
DTSTART:20240331T010000
END:DAYLIGHT
BEGIN:STANDARD
TZOFFSETFROM:+0200
TZOFFSETTO:+0100
TZNAME:CET
DTSTART:20241027T010000
END:STANDARD
BEGIN:DAYLIGHT
TZOFFSETFROM:+0100
TZOFFSETTO:+0200
TZNAME:CEST
DTSTART:20250330T010000
END:DAYLIGHT
BEGIN:STANDARD
TZOFFSETFROM:+0200
TZOFFSETTO:+0100
TZNAME:CET
DTSTART:20251026T010000
END:STANDARD
BEGIN:DAYLIGHT
TZOFFSETFROM:+0100
TZOFFSETTO:+0200
TZNAME:CEST
DTSTART:20260329T010000
END:DAYLIGHT
BEGIN:STANDARD
TZOFFSETFROM:+0200
TZOFFSETTO:+0100
TZNAME:CET
DTSTART:20261025T010000
END:STANDARD
END:VTIMEZONE
BEGIN:VEVENT
DTSTART;TZID=Europe/Berlin:20250702T081500
DTEND;TZID=Europe/Berlin:20250702T093000
DTSTAMP:20260419T180919
CREATED:20241125T230014Z
LAST-MODIFIED:20241125T230021Z
UID:4555-1751444100-1751448600@ulrichreiske.de
SUMMARY:Engpassdehnungsgruppe nach Liebscher & Bracht
DESCRIPTION:Freitags\n\nvon: 16.30 – 17.45 Uhr\nim:   Yoga- und Meditationszentrum (Agnes Schneider)\nOelmühlenstr. 13\n33604 Bielefeld \nKursleitung:  Ulrich Reiske\nKennenlern-Termin:  16\,00 €\nKursgebühr (10er Karte):  160\,00 € \nAnmeldung erwünscht.\nBitte eine Yoga-Matte mitbringen. \n 
URL:https://ulrichreiske.de/event/engpassdehnungsgruppe-nach-liebscher-bracht-186/
LOCATION:Yoga- und Meditationzentrum Bielefeld (Agnes Schneider)\, Oelmühlenstraße 13\, Bielefeld\, NRW\, 33604\, Deutschland
END:VEVENT
BEGIN:VEVENT
DTSTART;TZID=Europe/Berlin:20250704T163000
DTEND;TZID=Europe/Berlin:20250704T174500
DTSTAMP:20260419T180919
CREATED:20241126T103142Z
LAST-MODIFIED:20241126T103147Z
UID:4612-1751646600-1751651100@ulrichreiske.de
SUMMARY:L&B Bewegungskurs & fayo-Faszienyoga
DESCRIPTION:Freitags\n\nvon: 16.30 – 17.45 Uhr\nim:   Yoga- und Meditationszentrum (Agnes Schneider)\nOelmühlenstr. 13\n33604 Bielefeld \nKursleitung:  Ulrich Reiske\nKennenlern-Termin:  16\,00 €\nKursgebühr (10er Karte):  160\,00 € \nAnmeldung erwünscht.\nBitte eine Yoga-Matte mitbringen. \n 
URL:https://ulrichreiske.de/event/lb-bewegungskurs-fayo-faszienyoga-45/
LOCATION:Yoga- und Meditationzentrum Bielefeld (Agnes Schneider)\, Oelmühlenstraße 13\, Bielefeld\, NRW\, 33604\, Deutschland
END:VEVENT
BEGIN:VEVENT
DTSTART;TZID=Europe/Berlin:20250709T081500
DTEND;TZID=Europe/Berlin:20250709T093000
DTSTAMP:20260419T180919
CREATED:20241125T232208Z
LAST-MODIFIED:20241125T232212Z
UID:4575-1752048900-1752053400@ulrichreiske.de
SUMMARY:Engpassdehnungsgruppe nach Liebscher & Bracht
DESCRIPTION:Freitags\n\nvon: 16.30 – 17.45 Uhr\nim:   Yoga- und Meditationszentrum (Agnes Schneider)\nOelmühlenstr. 13\n33604 Bielefeld \nKursleitung:  Ulrich Reiske\nKennenlern-Termin:  16\,00 €\nKursgebühr (10er Karte):  160\,00 € \nAnmeldung erwünscht.\nBitte eine Yoga-Matte mitbringen. \n 
URL:https://ulrichreiske.de/event/engpassdehnungsgruppe-nach-liebscher-bracht-187/
LOCATION:Yoga- und Meditationzentrum Bielefeld (Agnes Schneider)\, Oelmühlenstraße 13\, Bielefeld\, NRW\, 33604\, Deutschland
END:VEVENT
BEGIN:VEVENT
DTSTART;TZID=Europe/Berlin:20250711T163000
DTEND;TZID=Europe/Berlin:20250711T174500
DTSTAMP:20260419T180919
CREATED:20241126T103253Z
LAST-MODIFIED:20241126T103258Z
UID:4615-1752251400-1752255900@ulrichreiske.de
SUMMARY:L&B Bewegungskurs & fayo-Faszienyoga
DESCRIPTION:Freitags\n\nvon: 16.30 – 17.45 Uhr\nim:   Yoga- und Meditationszentrum (Agnes Schneider)\nOelmühlenstr. 13\n33604 Bielefeld \nKursleitung:  Ulrich Reiske\nKennenlern-Termin:  16\,00 €\nKursgebühr (10er Karte):  160\,00 € \nAnmeldung erwünscht.\nBitte eine Yoga-Matte mitbringen. \n 
URL:https://ulrichreiske.de/event/lb-bewegungskurs-fayo-faszienyoga-46/
LOCATION:Yoga- und Meditationzentrum Bielefeld (Agnes Schneider)\, Oelmühlenstraße 13\, Bielefeld\, NRW\, 33604\, Deutschland
END:VEVENT
BEGIN:VEVENT
DTSTART;TZID=Europe/Berlin:20250716T081500
DTEND;TZID=Europe/Berlin:20250716T093000
DTSTAMP:20260419T180919
CREATED:20241125T232331Z
LAST-MODIFIED:20241125T232335Z
UID:4577-1752653700-1752658200@ulrichreiske.de
SUMMARY:Engpassdehnungsgruppe nach Liebscher & Bracht
DESCRIPTION:Freitags\n\nvon: 16.30 – 17.45 Uhr\nim:   Yoga- und Meditationszentrum (Agnes Schneider)\nOelmühlenstr. 13\n33604 Bielefeld \nKursleitung:  Ulrich Reiske\nKennenlern-Termin:  16\,00 €\nKursgebühr (10er Karte):  160\,00 € \nAnmeldung erwünscht.\nBitte eine Yoga-Matte mitbringen. \n 
URL:https://ulrichreiske.de/event/engpassdehnungsgruppe-nach-liebscher-bracht-188/
LOCATION:Yoga- und Meditationzentrum Bielefeld (Agnes Schneider)\, Oelmühlenstraße 13\, Bielefeld\, NRW\, 33604\, Deutschland
END:VEVENT
BEGIN:VEVENT
DTSTART;TZID=Europe/Berlin:20250723T081500
DTEND;TZID=Europe/Berlin:20250723T093000
DTSTAMP:20260419T180919
CREATED:20241125T232521Z
LAST-MODIFIED:20241125T232942Z
UID:4579-1753258500-1753263000@ulrichreiske.de
SUMMARY:Engpassdehnungsgruppe nach Liebscher & Bracht
DESCRIPTION:Freitags\n\nvon: 16.30 – 17.45 Uhr\nim:   Yoga- und Meditationszentrum (Agnes Schneider)\nOelmühlenstr. 13\n33604 Bielefeld \nKursleitung:  Ulrich Reiske\nKennenlern-Termin:  16\,00 €\nKursgebühr (10er Karte):  160\,00 € \nAnmeldung erwünscht.\nBitte eine Yoga-Matte mitbringen. \n 
URL:https://ulrichreiske.de/event/4579/
LOCATION:Yoga- und Meditationzentrum Bielefeld (Agnes Schneider)\, Oelmühlenstraße 13\, Bielefeld\, NRW\, 33604\, Deutschland
END:VEVENT
BEGIN:VEVENT
DTSTART;TZID=Europe/Berlin:20250725T163000
DTEND;TZID=Europe/Berlin:20250725T174500
DTSTAMP:20260419T180919
CREATED:20241126T103602Z
LAST-MODIFIED:20241126T103602Z
UID:4619-1753461000-1753465500@ulrichreiske.de
SUMMARY:L&B Bewegungskurs & fayo-Faszienyoga
DESCRIPTION:Freitags\n\nvon: 16.30 – 17.45 Uhr\nim:   Yoga- und Meditationszentrum (Agnes Schneider)\nOelmühlenstr. 13\n33604 Bielefeld \nKursleitung:  Ulrich Reiske\nKennenlern-Termin:  16\,00 €\nKursgebühr (10er Karte):  160\,00 € \nAnmeldung erwünscht.\nBitte eine Yoga-Matte mitbringen. \n 
URL:https://ulrichreiske.de/event/lb-bewegungskurs-fayo-faszienyoga-48/
LOCATION:Yoga- und Meditationzentrum Bielefeld (Agnes Schneider)\, Oelmühlenstraße 13\, Bielefeld\, NRW\, 33604\, Deutschland
END:VEVENT
BEGIN:VEVENT
DTSTART;TZID=Europe/Berlin:20250730T081500
DTEND;TZID=Europe/Berlin:20250730T093000
DTSTAMP:20260419T180919
CREATED:20241125T232642Z
LAST-MODIFIED:20241125T232646Z
UID:4581-1753863300-1753867800@ulrichreiske.de
SUMMARY:Engpassdehnungsgruppe nach Liebscher & Bracht
DESCRIPTION:Freitags\n\nvon: 16.30 – 17.45 Uhr\nim:   Yoga- und Meditationszentrum (Agnes Schneider)\nOelmühlenstr. 13\n33604 Bielefeld \nKursleitung:  Ulrich Reiske\nKennenlern-Termin:  16\,00 €\nKursgebühr (10er Karte):  160\,00 € \nAnmeldung erwünscht.\nBitte eine Yoga-Matte mitbringen. \n 
URL:https://ulrichreiske.de/event/engpassdehnungsgruppe-nach-liebscher-bracht-189/
LOCATION:Yoga- und Meditationzentrum Bielefeld (Agnes Schneider)\, Oelmühlenstraße 13\, Bielefeld\, NRW\, 33604\, Deutschland
END:VEVENT
END:VCALENDAR