BEGIN:VCALENDAR
VERSION:2.0
PRODID:-//Ulrich Reiske - ECPv6.15.17.1//NONSGML v1.0//EN
CALSCALE:GREGORIAN
METHOD:PUBLISH
X-ORIGINAL-URL:https://ulrichreiske.de
X-WR-CALDESC:Veranstaltungen für Ulrich Reiske
REFRESH-INTERVAL;VALUE=DURATION:PT1H
X-Robots-Tag:noindex
X-PUBLISHED-TTL:PT1H
BEGIN:VTIMEZONE
TZID:Europe/Berlin
BEGIN:DAYLIGHT
TZOFFSETFROM:+0100
TZOFFSETTO:+0200
TZNAME:CEST
DTSTART:20200329T010000
END:DAYLIGHT
BEGIN:STANDARD
TZOFFSETFROM:+0200
TZOFFSETTO:+0100
TZNAME:CET
DTSTART:20201025T010000
END:STANDARD
BEGIN:DAYLIGHT
TZOFFSETFROM:+0100
TZOFFSETTO:+0200
TZNAME:CEST
DTSTART:20210328T010000
END:DAYLIGHT
BEGIN:STANDARD
TZOFFSETFROM:+0200
TZOFFSETTO:+0100
TZNAME:CET
DTSTART:20211031T010000
END:STANDARD
BEGIN:DAYLIGHT
TZOFFSETFROM:+0100
TZOFFSETTO:+0200
TZNAME:CEST
DTSTART:20220327T010000
END:DAYLIGHT
BEGIN:STANDARD
TZOFFSETFROM:+0200
TZOFFSETTO:+0100
TZNAME:CET
DTSTART:20221030T010000
END:STANDARD
END:VTIMEZONE
BEGIN:VEVENT
DTSTART;TZID=Europe/Berlin:20210312T163000
DTEND;TZID=Europe/Berlin:20210312T174500
DTSTAMP:20260421T212923
CREATED:20201206T152512Z
LAST-MODIFIED:20201206T152518Z
UID:3403-1615566600-1615571100@ulrichreiske.de
SUMMARY:fayo-Faszienyoga
DESCRIPTION:Engpassdehnungsgruppe nach Liebscher & Bracht Mittwochs\n(Ausnahmen siehe Veranstaltungskalender) \nvon: 08.00 - 09.15 Uhr\nim:  Yoga- und Meditationszentrum (Agnes Schneider)\nOelmühlenstr. 13\n33604 Bielefeld\nGebühr für den ersten Kennenlern-Termin: 15\,00 €\nAnmeldung erwünscht.\nBitte eine Yoga-Matte mitbringen.
URL:https://ulrichreiske.de/event/fayo-faszienyoga-23/
LOCATION:Yoga- und Meditationzentrum Bielefeld (Agnes Schneider)\, Oelmühlenstraße 13\, Bielefeld\, NRW\, 33604\, Deutschland
END:VEVENT
BEGIN:VEVENT
DTSTART;TZID=Europe/Berlin:20210317T080000
DTEND;TZID=Europe/Berlin:20210317T091500
DTSTAMP:20260421T212923
CREATED:20201206T155808Z
LAST-MODIFIED:20201206T155813Z
UID:3442-1615968000-1615972500@ulrichreiske.de
SUMMARY:Engpassdehnungsgruppe nach Liebscher & Bracht
DESCRIPTION:Engpassdehnungsgruppe nach Liebscher & Bracht Mittwochs\n(Ausnahmen siehe Veranstaltungskalender) \nvon: 08.00 - 09.15 Uhr\nim:  Yoga- und Meditationszentrum (Agnes Schneider)\nOelmühlenstr. 13\n33604 Bielefeld\nGebühr für den ersten Kennenlern-Termin: 15\,00 €\nAnmeldung erwünscht.\nBitte eine Yoga-Matte mitbringen.
URL:https://ulrichreiske.de/event/engpassdehnungsgruppe-nach-liebscher-bracht-46/
LOCATION:Yoga- und Meditationzentrum Bielefeld (Agnes Schneider)\, Oelmühlenstraße 13\, Bielefeld\, NRW\, 33604\, Deutschland
END:VEVENT
BEGIN:VEVENT
DTSTART;TZID=Europe/Berlin:20210319T163000
DTEND;TZID=Europe/Berlin:20210319T174500
DTSTAMP:20260421T212923
CREATED:20201206T152724Z
LAST-MODIFIED:20201206T152749Z
UID:3406-1616171400-1616175900@ulrichreiske.de
SUMMARY:fayo-Faszienyoga
DESCRIPTION:Engpassdehnungsgruppe nach Liebscher & Bracht Mittwochs\n(Ausnahmen siehe Veranstaltungskalender) \nvon: 08.00 - 09.15 Uhr\nim:  Yoga- und Meditationszentrum (Agnes Schneider)\nOelmühlenstr. 13\n33604 Bielefeld\nGebühr für den ersten Kennenlern-Termin: 15\,00 €\nAnmeldung erwünscht.\nBitte eine Yoga-Matte mitbringen.
URL:https://ulrichreiske.de/event/fayo-faszienyoga-24/
LOCATION:Yoga- und Meditationzentrum Bielefeld (Agnes Schneider)\, Oelmühlenstraße 13\, Bielefeld\, NRW\, 33604\, Deutschland
END:VEVENT
END:VCALENDAR